BEGIN:VCALENDAR
VERSION:2.0
PRODID:-//4LifeLondon - ECPv6.15.20//NONSGML v1.0//EN
CALSCALE:GREGORIAN
METHOD:PUBLISH
X-WR-CALNAME:4LifeLondon
X-ORIGINAL-URL:https://4lifelondon.ca
X-WR-CALDESC:Events for 4LifeLondon
REFRESH-INTERVAL;VALUE=DURATION:PT1H
X-Robots-Tag:noindex
X-PUBLISHED-TTL:PT1H
BEGIN:VTIMEZONE
TZID:America/Toronto
BEGIN:DAYLIGHT
TZOFFSETFROM:-0500
TZOFFSETTO:-0400
TZNAME:EDT
DTSTART:20250309T070000
END:DAYLIGHT
BEGIN:STANDARD
TZOFFSETFROM:-0400
TZOFFSETTO:-0500
TZNAME:EST
DTSTART:20251102T060000
END:STANDARD
BEGIN:DAYLIGHT
TZOFFSETFROM:-0500
TZOFFSETTO:-0400
TZNAME:EDT
DTSTART:20260308T070000
END:DAYLIGHT
BEGIN:STANDARD
TZOFFSETFROM:-0400
TZOFFSETTO:-0500
TZNAME:EST
DTSTART:20261101T060000
END:STANDARD
BEGIN:DAYLIGHT
TZOFFSETFROM:-0500
TZOFFSETTO:-0400
TZNAME:EDT
DTSTART:20270314T070000
END:DAYLIGHT
BEGIN:STANDARD
TZOFFSETFROM:-0400
TZOFFSETTO:-0500
TZNAME:EST
DTSTART:20271107T060000
END:STANDARD
END:VTIMEZONE
BEGIN:VEVENT
DTSTART;TZID=America/Toronto:20260425T093000
DTEND;TZID=America/Toronto:20260425T110000
DTSTAMP:20260419T213548
CREATED:20260416T165902Z
LAST-MODIFIED:20260416T170235Z
UID:2123-1777109400-1777114800@4lifelondon.ca
SUMMARY:4LL Annual General Meeting
DESCRIPTION:4LifeLondon’s Annual General Meeting will be held on Saturday\, April 25th from 9:30 AM-11:00 AM at St. Andrew the Apostle Parish (1 Fallons Lane\, London ON N5V 5C1). \nAt this meeting we will share what we have accomplished in the past year thanks to your support! Everyone is welcome. \nPlease contact Leire at info@4lifelondon.ca for more information.
URL:https://4lifelondon.ca/event/4ll-annual-general-meeting/
ATTACH;FMTTYPE=image/png:https://4lifelondon.ca/wp-content/uploads/2026/04/4LifeLondons-2026-AGM.png
END:VEVENT
BEGIN:VEVENT
DTSTART;TZID=America/Toronto:20260513T234500
DTEND;TZID=America/Toronto:20260514T230000
DTSTAMP:20260419T213548
CREATED:20251120T012228Z
LAST-MODIFIED:20260416T172226Z
UID:1896-1778715900-1778799600@4lifelondon.ca
SUMMARY:2026 Bus to the National March for Life
DESCRIPTION:4LifeLondon will once again be taking a bus to this year’s March for Life in Ottawa on May 14\, 2026! \nThis is a fantastic opportunity to stand up for the pre-born as a community and send a message on Parliament Hill that LIFE matters and it must be valued from the moment of conception! \nWe’ll be leaving London at 11:45 PM on May 13th\, and getting back around 11 PM on May 14th. Like last year\, we’ll be leaving from St. Justin’s Catholic Church (855 Jalna Blvd\, London\, ON – be sure to park your cars near the fence of the parking lot furthest from the church building). \nThanks to our generous supporters the first 25 seats claimed are free of charge. \nReserve your sport today by texting/calling Leire at 519-659-3334 \nSnacks will be provided. Rest stops will be made\, including time to purchase meals at restaurants en route.
URL:https://4lifelondon.ca/event/bus2026/
ATTACH;FMTTYPE=image/png:https://4lifelondon.ca/wp-content/uploads/2025/11/march-for-life-2026.png
ORGANIZER;CN="4LifeLondon":MAILTO:info@4lifelondon.ca
END:VEVENT
BEGIN:VEVENT
DTSTART;TZID=America/Toronto:20260613T084500
DTEND;TZID=America/Toronto:20260613T110000
DTSTAMP:20260419T213548
CREATED:20251231T025451Z
LAST-MODIFIED:20251231T032302Z
UID:2066-1781340300-1781348400@4lifelondon.ca
SUMMARY:Walk for Life 2026
DESCRIPTION:4LifeLondon presents Walk for Life\nSaturday June 13th\, 2026\n\nMore details coming soon.. Join our mailing list to stay updated.
URL:https://4lifelondon.ca/event/walk-for-life-2026/
ATTACH;FMTTYPE=image/png:https://4lifelondon.ca/wp-content/uploads/2025/12/2026-Website-Walk4Life-Poster-scaled-e1767151343906.png
END:VEVENT
BEGIN:VEVENT
DTSTART;TZID=America/Toronto:20260617T183000
DTEND;TZID=America/Toronto:20260617T203000
DTSTAMP:20260419T213548
CREATED:20260414T201413Z
LAST-MODIFIED:20260414T201616Z
UID:2117-1781721000-1781728200@4lifelondon.ca
SUMMARY:Care\, not kill: The pro-life case against assisted suicide
DESCRIPTION:Download Poster\nThis pro-life seminar focuses on Euthanasia. Learn why our society should always offer suicide prevention\, and never suicide assistance\, to any suffering person in need of help. \nDate: June 17th\, 2026 \nTime: 6:30-8:30PM \nLocation: In London\, exact location TBD \nPlease RSVP by text/call Leire at 519-659-3334
URL:https://4lifelondon.ca/event/pro-life-seminar-care-not-kill/
ATTACH;FMTTYPE=application/pdf:https://4lifelondon.ca/wp-content/uploads/2026/04/June-17-Pro-Life-Seminar-CareNotKill-8.5-x-11-in.pdf
ORGANIZER;CN="4LifeLondon":MAILTO:info@4lifelondon.ca
END:VEVENT
BEGIN:VEVENT
DTSTART;TZID=America/Toronto:20260911T150000
DTEND;TZID=America/Toronto:20260920T220000
DTSTAMP:20260419T213548
CREATED:20251231T030042Z
LAST-MODIFIED:20251231T030406Z
UID:2068-1789138800-1789941600@4lifelondon.ca
SUMMARY:Pro-Life Booth at the Western Fair
DESCRIPTION:We at 4LifeLondon are excited to once again announce that we have a booth at the Western Fair! \nSep 11th – Sep 20th\, 2016 \nMore details coming soon.. Join our mailing list to stay updated.
URL:https://4lifelondon.ca/event/pro-life-booth-at-the-western-fair-2/
ATTACH;FMTTYPE=image/jpeg:https://4lifelondon.ca/wp-content/uploads/2023/09/western-fair-logo.jpg
END:VEVENT
END:VCALENDAR